Workbook

Sheet Kittiwake PVA inputs
A1: PVA tool tabs | B1: Input box name | C1: Input name | D1: Input
A2: 1. Basic PVA Information | B2: PVA run details | C2: Reference name | D2: Kittiwake Scenarios
C3: Choose type: | D3: Simulation
B4: Basic information about the form of PVA | C4: Model to use for environmental stochasticity: | D4: Beta/Gamma
C5: Choose model for density dependence: | D5: No density dependence
C6: Include demographic stochasticity in model? | D6: Yes
B7: Simulation | C7: Number of simulations | D7: 5000
C8: Random seed | D8: 1234
C9: Years for burn-in | D9: 0
B10: Case studies | C10: Select a case study | D10: None
A11: 2. Baseline demographic rates | B11: Species-specific values | C11: Species | D11: Black-Legged Kittiwake
C12: Region type to use for breeding success data | D12: Global
C13: Available colony-specific survival rate | D13: National
C14: Sector to use within breeding success region
B15: Age at first breeding | C15: Age at first breeding (years) | D15: 4 years
B16: Productivity parameters | C16: Is there an upper constraint on productivity in the model? | D16: Yes
C17: Maximum brood size per pair (chicks) will be constrained to be no greater than: | D17: 2
B18: Options for subpopulations | C18: Number of subpopulations | D18: 1
C19: Are demographic rates applied separately to each subpopulation? | D19: NA
B20: Units for initial population size | C20: Choose: | D20: Breeding adults
B21: Options for immatures | C21: Are baseline demographic rates specified separately for immatures? | D21: Yes
B22: Baseline demographic rates: 1 | C22: Initial population size - Year | D22: 2016
C23: Initial population size | D23: 11146
C24: Productivity rate per pair - Mean | D24: 0.69
C25: Productivity rate per pair - SD | D25: 0.296
C26: Productivity rate per pair - DD effect | D26: BLANK
C27: Adult survival rate -Mean | D27: 0.854
C28: Adult survival rate - SD | D28: 0.077
C29: Adult survival rate - DD effect | D29: BLANK
C30: Immature survival rates(0-1) - Mean | D30: 0.79
C31: Immature survival rates (0-1) - SD | D31: 1e-05
C32: Immature survival rates (0-1) - DD effect | D32: BLANK
C33: Immature survival rates (1-2) - Mean | D33: 0.854
C34: Immature survival rates (1-2) - SD | D34: 0.077
C35: Immature survival rates (1-2) - DD effect | D35: BLANK
C36: Immature survival rates (2-3) - Mean | D36: 0.854
C37: Immature survival rates (2-3) - SD | D37: 0.077
C38: Immature survival rates (2-3) - DD effect | D38: BLANK
C39: Immature survival rates (3-4) - Mean | D39: 0.854
C40: Immature survival rates (3-4) - SD | D40: 0.077
C41: Immature survival rates (3-4) - DD effect | D41: BLANK
A42: 3. Impacts | B42: Scenarios | C42: Number of scenarios of impact | D42: 10 (then another with 8)
B43: Options | C43: Are impacts applied separately to each subpopulation? | D43: No
C44: Are impacts specified separately for immatures? | D44: Yes
C45: Are standard errors of impacts available? | D45: No
C46: Should random seeds be matched for impact scenarios? | D46: Yes
B47: Form of impact | C47: Impacts are specified as | D47: Relative
B48: Years in which impacts begin and end | C48: Begin | D48: 2027
C49: End | D49: 2077 | F49: Take the totals from other tabs
B50: Scenario 1 - PFOWF project-alone with 10% sabbatical | C50: Scenario name | D50: 1 | F50: CRM | G50: SeabORD
C51: Impact on productivity rate per pair - Mean | D51: =SUM(F51:G51) -> 0.0016124834 | G51: ='SeabORD outputs'!D11 -> 0.0016124834
C52: Impact on productivity rate per pair - SE
C53: Impact on adult survival rate - Mean | D53: =SUM(F53:G53) -> 0.0002903197 | F53: ='CRM -Pentland, Moray Firth & BB'!N26 -> 0.00019855225 | G53: ='SeabORD outputs'!F11 -> 9.176745e-05
C54: Impact on adult survival rate - SE
C55: Impact on immature survival rate - Mean | D55: =SUM(F55:G55) -> 1.9600332e-05 | F55: ='CRM -Pentland, Moray Firth & BB'!O26 -> 1.9600332e-05
C56: Impact on immature survival rate - SE
B57: Scenario 2 - PFOWF and Moray Firth together, with 10% sabbatical rate | C57: Scenario name | D57: 2
C58: Impact on productivity rate per pair - Mean | D58: =SUM(F58:G58) -> 0.0038743083 | G58: ='SeabORD outputs'!L11 -> 0.0038743083
C59: Impact on productivity rate per pair - SE
C60: Impact on adult survival rate - Mean | D60: =SUM(F60:G60) -> 0.00094145675 | F60: ='CRM -Pentland, Moray Firth & BB'!N55+'CRM -Pentland, Moray Firth & BB'!N26 -> 0.00049429006 | G60: ='SeabORD outputs'!N11 -> 0.0004471667
C61: Impact on adult survival rate - SE
C62: Impact on immature survival rate - Mean | D62: =SUM(F62:G62) -> 0.00011548579 | F62: ='CRM -Pentland, Moray Firth & BB'!O55+'CRM -Pentland, Moray Firth & BB'!O26 -> 0.00011548579
C63: Impact on immature survival rate - SE
B64: Scenario 3a - Other North Sea wind farms (from Hornsea 4 – EA 1 & 2) | C64: Scenario name | D64: 3a
C65: Impact on productivity rate per pair - Mean | D65: =SUM(F65:G65) -> 0
C66: Impact on productivity rate per pair - SE
C67: Impact on adult survival rate - Mean | D67: =SUM(F67:G67) -> 0.0023810214 | F67: ='CRM -North Sea Compilation'!D57+'CRM -North Sea Compilation'!H57 -> 0.0023810214
C68: Impact on adult survival rate - SE
C69: Impact on immature survival rate - Mean | D69: =SUM(F69:G69) -> 0.0025456718 | F69: ='CRM -North Sea Compilation'!D58+'CRM -North Sea Compilation'!H58 -> 0.0025456718
C70: Impact on immature survival rate - SE
B71: Scenario 3b - Other North Sea wind farms (from Inch Cape - consented) | C71: Scenario name | D71: 3b
C72: Impact on productivity rate per pair - Mean | D72: =SUM(F72:G72) -> 0
C73: Impact on productivity rate per pair - SE
C74: Impact on adult survival rate - Mean | D74: =SUM(F74:G74) -> 0.0020241432 | F74: ='CRM -North Sea Compilation'!E57+'CRM -North Sea Compilation'!I57 -> 0.0020241432
C75: Impact on adult survival rate - SE
C76: Impact on immature survival rate - Mean | D76: =SUM(F76:G76) -> 0.0022099265 | F76: ='CRM -North Sea Compilation'!E58+'CRM -North Sea Compilation'!I58 -> 0.0022099265
C77: Impact on immature survival rate - SE
B78: Scenario 3c - Other North Sea wind farms (from Inch Cape - built) | C78: Scenario name | D78: 3c
C79: Impact on productivity rate per pair - Mean | D79: =SUM(F79:G79) -> 0
C80: Impact on productivity rate per pair - SE
C81: Impact on adult survival rate - Mean | D81: =SUM(F81:G81) -> 0.0016761477 | F81: ='CRM -North Sea Compilation'!F57+'CRM -North Sea Compilation'!J57 -> 0.0016761477
C82: Impact on adult survival rate - SE
C83: Impact on immature survival rate - Mean | D83: =SUM(F83:G83) -> 0.0018234688 | F83: ='CRM -North Sea Compilation'!F58+'CRM -North Sea Compilation'!J58 -> 0.0018234688
C84: Impact on immature survival rate - SE
B85: Scenario 3d - Other North Sea wind farms (from Inch Cape – season-adjusted) | C85: Scenario name | D85: 3d
C86: Impact on productivity rate per pair - Mean | D86: =SUM(F86:G86) -> 0
C87: Impact on productivity rate per pair - SE
C88: Impact on adult survival rate - Mean | D88: =SUM(F88:G88) -> 0.0015390627 | F88: ='CRM -North Sea Compilation'!G57+'CRM -North Sea Compilation'!K57 -> 0.0015390627
C89: Impact on adult survival rate - SE
C90: Impact on immature survival rate - Mean | D90: =SUM(F90:G90) -> 0.0016712612 | F90: ='CRM -North Sea Compilation'!G58+'CRM -North Sea Compilation'!K58 -> 0.0016712612
C91: Impact on immature survival rate - SE
B92: Scenario 4a - 3a plus Berwick Bank collision risk only | C92: Scenario name | D92: 4a
C93: Impact on productivity rate per pair - Mean | D93: =SUM(F93:G93) -> 0
C94: Impact on productivity rate per pair - SE
C95: Impact on adult survival rate - Mean | D95: =SUM(F95:G95) -> 0.0027933992 | F95: =F67+'CRM -Pentland, Moray Firth & BB'!$G$66 -> 0.0027933992
C96: Impact on adult survival rate - SE
C97: Impact on immature survival rate - Mean | D97: =SUM(F97:G97) -> 0.0028549413 | F97: =F69+'CRM -Pentland, Moray Firth & BB'!$G$67 -> 0.0028549413
C98: Impact on immature survival rate - SE
B99: Scenario 4b - 3b plus Berwick Bank collision risk only | C99: Scenario name | D99: 4b
C100: Impact on productivity rate per pair - Mean | D100: =SUM(F100:G100) -> 0
...

Sheet Puffin PVA inputs
A1: PVA tool tabs | B1: Input box name | C1: Input name | D1: Input
A2: 1. Basic PVA Information | B2: PVA run details | C2: Reference name | D2: Puffin Scenarios 1-3
C3: Choose type: | D3: Simulation
B4: Basic information about the form of PVA | C4: Model to use for environmental stochasticity: | D4: Beta/Gamma
C5: Choose model for density dependence: | D5: No density dependence
C6: Include demographic stochasticity in model? | D6: Yes
B7: Simulation | C7: Number of simulations | D7: 5000
C8: Random seed | D8: 1234
C9: Years for burn-in | D9: 0
B10: Case studies | C10: Select a case study | D10: None
A11: 2. Baseline demographic rates | B11: Species-specific values | C11: Species | D11: Atlantic Puffin
C12: Region type to use for breeding success data | D12: Global
C13: Available colony-specific survival rate | D13: National
C14: Sector to use within breeding success region
B15: Age at first breeding | C15: Age at first breeding (years) | D15: 5 years
B16: Productivity parameters | C16: Is there an upper constraint on productivity in the model? | D16: Yes
C17: Maximum brood size per pair (chicks) will be constrained to be no greater than: | D17: 1
B18: Options for subpopulations | C18: Number of subpopulations | D18: 1
C19: Are demographic rates applied separately to each subpopulation? | D19: NA
B20: Units for initial population size | C20: Choose: | D20: Breeding adults
B21: Options for immatures | C21: Are baseline demographic rates specified separately for immatures? | D21: Yes
B22: Baseline dem rates 1 | C22: Initial population size - Year | D22: 2016
C23: Initial population size | D23: 3053
C24: Productivity rate per pair - Mean | D24: 0.617
C25: Productivity rate per pair - SD | D25: 0.151
C26: Productivity rate per pair - DD effect | D26: BLANK
C27: Adult survival rate -Mean | D27: 0.907
C28: Adult survival rate - SD | D28: 0.083
C29: Adult survival rate - DD effect | D29: BLANK
C30: Immature survival rates(0-1) - Mean | D30: 0.709
C31: Immature survival rates (0-1) - SD | D31: 0.108
C32: Immature survival rates (0-1) - DD effect | D32: BLANK
C33: Immature survival rates (1-2) - Mean | D33: 0.709
C34: Immature survival rates (1-2) - SD | D34: 0.108
C35: Immature survival rates (1-2) - DD effect | D35: BLANK
C36: Immature survival rates (2-3) - Mean | D36: 0.709
C37: Immature survival rates (2-3) - SD | D37: 0.108
C38: Immature survival rates (2-3) - DD effect | D38: BLANK
C39: Immature survival rates (3-4) - Mean | D39: 0.76
C40: Immature survival rates (3-4) - SD | D40: 0.093
C41: Immature survival rates (3-4) - DD effect | D41: BLANK
C42: Immature survival rates (4-5) - Mean | D42: 0.805
C43: Immature survival rates (4-5) - SD | D43: 0.083
C44: Immature survival rates (4-5) - DD effect | D44: BLANK
A45: 3. Impacts | B45: Scenarios | C45: Number of scenarios of impact | D45: 3
B46: Options | C46: Are impacts applied separately to each subpopulation? | D46: No
C47: Are impacts specified separately for immatures? | D47: No
C48: Are standard errors of impacts available? | D48: Yes
C49: Should random seeds be matched for impact scenarios? | D49: Yes
B50: Form of impact | C50: Impacts are specified as | D50: Relative
B51: Years in which impacts begin and end | C51: Begin | D51: 2027
C52: End | D52: 2077
B53: Scenario 1 - Pentland project alone seaBORD | C53: Scenario name | D53: 1
C54: Impact on productivity rate per pair - Mean | D54: ='SeabORD outputs'!D23 -> 0.00039043222
C55: Impact on productivity rate per pair - SE | D55: ='SeabORD outputs'!D24 -> 0.0012507111
C56: Impact on adult survival rate - Mean | D56: ='SeabORD outputs'!F23 -> 0.0003286313
C57: Impact on adult survival rate - SE | D57: ='SeabORD outputs'!F24 -> 0.00089988066
C58: Impact on immature survival rate - Mean
C59: Impact on immature survival rate - SE
B60: Scenario 2 - Moray Firth wind farms (Beatrice, Moray East and Moray West) seaBORD | C60: Scenario name | D60: 2
C61: Impact on productivity rate per pair - Mean | D61: ='SeabORD outputs'!H23 -> 0.001112017
C62: Impact on productivity rate per pair - SE | D62: ='SeabORD outputs'!H24 -> 0.0025146151
C63: Impact on adult survival rate - Mean | D63: ='SeabORD outputs'!J23 -> 0.00091358874
C64: Impact on adult survival rate - SE | D64: ='SeabORD outputs'!J24 -> 0.0011459896
C65: Impact on immature survival rate - Mean
C66: Impact on immature survival rate - SE
B67: Scenario 3 - Pentland and Moray Firth windfarms together (cumulatively) seaBORD | C67: Scenario name | D67: 3
C68: Impact on productivity rate per pair - Mean | D68: ='SeabORD outputs'!L23 -> 0.0015718402
C69: Impact on productivity rate per pair - SE | D69: ='SeabORD outputs'!L24 -> 0.0027874631
C70: Impact on adult survival rate - Mean | D70: ='SeabORD outputs'!N23 -> 0.0012777603
C71: Impact on adult survival rate - SE | D71: ='SeabORD outputs'!N24 -> 0.0016244908
C72: Impact on immature survival rate - Mean
C73: Impact on immature survival rate - SE
A74: 4. Run | B74: Output: Years | C74: First year to include in outputs | D74: 2016
C75: Final year to include in outputs | D75: 2077
B76: Output: Target pop size | C76: Target population size to use in calculating impact metrics | D76: BLANK
C77: Quasi-extinction threshold to use in calculating impact metrics | D77: BLANK
B78: Units for output | C78: Choose | D78: All ages separately
B79: Summary of Parameters | C79: Completed parameters | D79: 23/23

Sheet SeabORD outputs
A1: Summarised outputs from SeabORD:
A3: Kittiwake
C4: Pentland only - chicks | E4: Pentland only - adults | G4: Moray Firth - chicks | I4: Moray Firth - adults | K4: All wind farms - chicks | M4: All wind farms - adults
A5: Site | B5: Population | C5: Add. mortality (%) | D5: SD | E5: Add. mortality (%) | F5: SD | G5: Add. mortality (%) | H5: SD | I5: Add. mortality (%) | J5: SD | K5: Add. mortality (%) | L5: SD | M5: Add. mortality (%) | N5: SD
A6: Dunnet | B6: 4040 | C6: 0.262 | D6: 0.087 | E6: 0.035 | F6: 0.051 | G6: 0.307 | H6: 0.24 | I6: 0.047 | J6: 0.057 | K6: 0.574 | L6: 0.274 | M6: 0.067 | N6: 0.07
A7: Duncansby | B7: 1168 | C7: 0.137 | D7: 0.108 | E7: -0.043 | F7: 0.045 | G7: 0.174 | H7: 0.214 | I7: -0.009 | J7: 0.063 | K7: 0.308 | L7: 0.177 | M7: -0.017 | N7: 0.079
A8: Melvich | B8: 5554 | C8: 0.097 | D8: 0.085 | E8: 0.002 | F8: 0.02 | G8: 0.173 | H8: 0.121 | I8: 0.045 | J8: 0.047 | K8: 0.259 | L8: 0.167 | M8: 0.041 | N8: 0.039
A9: Stroma | B9: 274 | C9: 0 | D9: 0 | E9: 0 | F9: 0 | G9: 0.365 | H9: 0.516 | I9: 0 | J9: 0 | K9: 0.296 | L9: 0.51 | M9: 0.036 | N9: 0.115
A10: Holburn | B10: 110 | C10: 0.364 | D10: 1.15 | E10: 0 | F10: 0 | G10: 0.727 | H10: 1.271 | I10: 0.182 | J10: 0.383 | K10: 1.091 | L10: 1.533 | M10: 0.091 | N10: 0.287
C11: Weighted mean | D11: =(SUM(C6*$B6, C7*$B7, C8*$B8, C9*$B9, C10*$B10)/SUM($B6:$B10))/100 -> 0.0016124834 | E11: Weighted mean | F11: =(SUM(E6*$B6, E7*$B7, E8*$B8, E9*$B9, E10*$B10)/SUM($B6:$B10))/100 -> 9.176745e-05 | G11: Weighted mean | H11: =(SUM(G6*$B6, G7*$B7, G8*$B8, G9*$B9, G10*$B10)/SUM($B6:$B10))/100 -> 0.0023186201 | I11: Weighted mean | J11: =(SUM(I6*$B6, I7*$B7, I8*$B8, I9*$B9, I10*$B10)/SUM($B6:$B10))/100 -> 0.0004031204 | K11: Weighted mean | L11: =(SUM(K6*$B6, K7*$B7, K8*$B8, K9*$B9, K10*$B10)/SUM($B6:$B10))/100 -> 0.0038743083 | M11: Weighted mean | N11: =(SUM(M6*$B6, M7*$B7, M8*$B8, M9*$B9, M10*$B10)/SUM($B6:$B10))/100 -> 0.0004471667
C12: Weighted SD | D12: =(SQRT((($B6-1)*D6^2+($B7-1)*D7^2+($B8-1)*D8^2+($B9-1)*D9^2+($B10-1)*D10^2)/(SUM($B6:$B10)-5)))/100 -> 0.0014319874 | E12: Weighted SD | F12: =(SQRT((($B6-1)*F6^2+($B7-1)*F7^2+($B8-1)*F8^2+($B9-1)*F9^2+($B10-1)*F10^2)/(SUM($B6:$B10)-5)))/100 -> 0.00036802715 | G12: Weighted SD | H12: =(SQRT((($B6-1)*H6^2+($B7-1)*H7^2+($B8-1)*H8^2+($B9-1)*H9^2+($B10-1)*H10^2)/(SUM($B6:$B10)-5)))/100 -> 0.0023517201 | I12: Weighted SD | J12: =(SQRT((($B6-1)*J6^2+($B7-1)*J7^2+($B8-1)*J8^2+($B9-1)*J9^2+($B10-1)*J10^2)/(SUM($B6:$B10)-5)))/100 -> 0.00064263597 | K12: Weighted SD | L12: =(SQRT((($B6-1)*L6^2+($B7-1)*L7^2+($B8-1)*L8^2+($B9-1)*L9^2+($B10-1)*L10^2)/(SUM($B6:$B10)-5)))/100 -> 0.0027159905 | M12: Weighted SD | N12: =(SQRT((($B6-1)*N6^2+($B7-1)*N7^2+($B8-1)*N8^2+($B9-1)*N9^2+($B10-1)*N10^2)/(SUM($B6:$B10)-5)))/100 -> 0.0006571304
A15: Puffin
C16: Pentland only - chicks | E16: Pentland only - adults | G16: Moray Firth - chicks | I16: Moray Firth - adults | K16: All wind farms - chicks | M16: All wind farms - adults
A17: Site | B17: Population | C17: Add. mortality (%) | D17: SD | E17: Add. mortality (%) | F17: SD | G17: Add. mortality (%) | H17: SD | I17: Add. mortality (%) | J17: SD | K17: Add. mortality (%) | L17: SD | M17: Add. mortality (%) | N17: SD
A18: Dunnet | B18: 1604 | C18: 0.087 | D18: 0.167 | E18: 0.031 | F18: 0.044 | G18: 0.087 | H18: 0.212 | I18: 0.087 | J18: 0.079 | K18: 0.162 | L18: 0.257 | M18: 0.156 | N18: 0.111
A19: Duncansby | B19: 18 | C19: 0 | D19: 0 | E19: 0 | F19: 0 | G19: 0 | H19: 0 | I19: 0 | J19: 0 | K19: 0 | L19: 0 | M19: 0 | N19: 0
A20: Melvich | B20: 1354 | C20: -0.015 | D20: 0.047 | E20: 0.03 | F20: 0.062 | G20: 0.133 | H20: 0.202 | I20: 0.103 | J20: 0.149 | K20: 0.148 | L20: 0.22 | M20: 0.096 | N20: 0.181
A21: Stroma | B21: 18 | C21: 0 | D21: 0 | E21: 0 | F21: 0 | G21: 0 | H21: 0 | I21: 0 | J21: 0 | K21: 0 | L21: 0 | M21: 0 | N21: 0
A22: Holburn | B22: 60 | C22: 0 | D22: 0 | E22: 0.167 | F22: 0.527 | G22: 0.333 | H22: 1.054 | I22: 0 | J22: 0 | K22: 0.33 | L22: 1.054 | M22: 0.167 | N22: 0.527
C23: Weighted mean | D23: =(SUM(C18*$B18, C19*$B19, C20*$B20, C21*$B21, C22*$B22)/SUM($B18:$B22))/100 -> 0.00039043222 | E23: Weighted mean | F23: =(SUM(E18*$B18, E19*$B19, E20*$B20, E21*$B21, E22*$B22)/SUM($B18:$B22))/100 -> 0.0003286313 | G23: Weighted mean | H23: =(SUM(G18*$B18, G19*$B19, G20*$B20, G21*$B21, G22*$B22)/SUM($B18:$B22))/100 -> 0.001112017 | I23: Weighted mean | J23: =(SUM(I18*$B18, I19*$B19, I20*$B20, I21*$B21, I22*$B22)/SUM($B18:$B22))/100 -> 0.00091358874 | K23: Weighted mean | L23: =(SUM(K18*$B18, K19*$B19, K20*$B20, K21*$B21, K22*$B22)/SUM($B18:$B22))/100 -> 0.0015718402 | M23: Weighted mean | N23: =(SUM(M18*$B18, M19*$B19, M20*$B20, M21*$B21, M22*$B22)/SUM($B18:$B22))/100 -> 0.0012777603
C24: Weighted SD | D24: =(SQRT((($B18-1)*D18^2+($B19-1)*D19^2+($B20-1)*D20^2+($B21-1)*D21^2+($B22-1)*D22^2)/(SUM($B18:$B22)-5)))/100 -> 0.0012507111 | E24: Weighted SD | F24: =(SQRT((($B18-1)*F18^2+($B19-1)*F19^2+($B20-1)*F20^2+($B21-1)*F21^2+($B22-1)*F22^2)/(SUM($B18:$B22)-5)))/100 -> 0.00089988066 | G24: Weighted SD | H24: =(SQRT((($B18-1)*H18^2+($B19-1)*H19^2+($B20-1)*H20^2+($B21-1)*H21^2+($B22-1)*H22^2)/(SUM($B18:$B22)-5)))/100 -> 0.0025146151 | I24: Weighted SD | J24: =(SQRT((($B18-1)*J18^2+($B19-1)*J19^2+($B20-1)*J20^2+($B21-1)*J21^2+($B22-1)*J22^2)/(SUM($B18:$B22)-5)))/100 -> 0.0011459896 | K24: Weighted SD | L24: =(SQRT((($B18-1)*L18^2+($B19-1)*L19^2+($B20-1)*L20^2+($B21-1)*L21^2+($B22-1)*L22^2)/(SUM($B18:$B22)-5)))/100 -> 0.0027874631 | M24: Weighted SD | N24: =(SQRT((($B18-1)*N18^2+($B19-1)*N19^2+($B20-1)*N20^2+($B21-1)*N21^2+($B22-1)*N22^2)/(SUM($B18:$B22)-5)))/100 -> 0.0016244908

Sheet CRM -Pentland, Moray Firth & BB
A1: Kittiwake Pentland
A3: 1. CRM outputs | R3: Breeding season survey-derived age structure
A4: OWF | B4: species | C4: turbines | D4: Jan | E4: Feb | F4: Mar | G4: Apr | H4: May | I4: Jun | J4: Jul | K4: Aug | L4: Sep | M4: Oct | N4: Nov | O4: Dec | R4: adults | S4: prop adults | T4: total pop | U4: immatures | V4: prop imm
A5: Pentland | B5: Kittiwake | C5: 1x14MW | D5: 0.003940973 | E5: 0.011794954 | F5: 0.027721183 | G5: 0.00510914 | H5: 0.01847396 | I5: 0.32577383 | J5: 0.20001308 | K5: 0.028822787 | L5: 0.005274235 | M5: 0.017959339 | N5: 0.076706723 | O5: 0 | R5: 11146 | S5: 0.947 | T5: =R5/S5 -> 11769.799 | U5: =T5-R5 -> 623.79937 | V5: =1-S5 -> 0.053
A6: Pentland | B6: Kittiwake | C6: 5x17MW | D6: 0.02061097 | E6: 0.06168667 | F6: 0.14497957 | G6: 0.02672039 | H6: 0.09661733 | I6: 1.7037711 | J6: 1.0460524 | K6: 0.15074087 | L6: 0.02758383 | M6: 0.09392591 | N6: 0.40117003 | O6: 0
A7: Pentland | B7: Kittiwake | C7: 6x17MW | D7: 0.02473317 | E7: 0.074024 | F7: 0.17397548 | G7: 0.03206447 | H7: 0.1159408 | I7: 2.0445253 | J7: 1.2552629 | K7: 0.18088904 | L7: 0.03310059 | M7: 0.11271109 | N7: 0.48140403 | O7: 0 | R7: Age prop calculations based on stable age structure (after 10 year burn in)
R8: adults | S8: prop adults | T8: total pop | U8: immatures | V8: prop imm
R9: 11146 | S9: 0.6 | T9: =R9/S9 -> 18576.667 | U9: =T9-R9 -> 7430.6667 | V9: 0.4
A10: 2. Combine the 14MW and 17MW turbine scenarios
A11: OWF | B11: species | C11: turbines | D11: Jan | E11: Feb | F11: Mar | G11: Apr | H11: May | I11: Jun | J11: Jul | K11: Aug | L11: Sep | M11: Oct | N11: Nov | O11: Dec | R11: Weightings
A12: Pentland | B12: Kittiwake | C12: 1x14MW & 5x17MW | D12: =D5+D6 -> 0.024551943 | E12: =E5+E6 -> 0.073481624 | F12: =F5+F6 -> 0.17270075 | G12: =G5+G6 -> 0.03182953 | H12: =H5+H6 -> 0.11509129 | I12: =I5+I6 -> 2.0295449 | J12: =J5+J6 -> 1.2460655 | K12: =K5+K6 -> 0.17956366 | ... O12: =O5+O6 -> 0 | R12: Season | S12: Pentland | T12: Beatrice | U12: Moray East | V12: Moray West
A13: Pentland | B13: Kittiwake | C13: 6x17MW | D13: =D7 -> 0.02473317 | E13: =E7 -> 0.074024 | F13: =F7 -> 0.17397548 | G13: =G7 -> 0.03206447 | H13: =H7 -> 0.1159408 | I13: =I7 -> 2.0445253 | J13: =J7 -> 1.2552629 | K13: =K7 -> 0.18088904 | ... O13: =O7 -> 0 | R13: Spring | S13: 0.028 | T13: 0.028 | U13: 0.028 | V13: 0.028
R14: Breeding | S14: 0.717 | T14: 0.026 | U14: 0.023 | V14: 0.015
R15: Autumn | S15: 0.023 | T15: 0.023 | U15: 0.023 | V15: 0.023
A16: 3. Apply weightings
A17: OWF | B17: species | C17: turbines | D17: Jan | E17: Feb | F17: Mar | G17: Apr | H17: May | I17: Jun | J17: Jul | K17: Aug | L17: Sep | M17: Oct | N17: Nov | O17: Dec
A18: Pentland | B18: Kittiwake | C18: 1x14MW & 5x17MW | D18: =$S$13*D12 -> 0.0006874544 | E18: =$S$13*E12 -> 0.0020574855 | F18: =$S$13*F12 -> 0.0048356211 | G18: =$S$14*G12 -> 0.022821773 | H18: =$S$14*H12 -> 0.082520455 | I18: =$S$14*I12 -> 1.4551837 | J18: =$S$14*J12 -> 0.89342895 | K18: =$S$14*K12 -> 0.12874714 | L18: =$S$15*L12 -> 0.00075573549 | M18: =$S$15*M12 -> 0.0025733607 | N18: =$S$15*N12 -> 0.010991165 | O18: =$S$15*O12 -> 0
A19: Pentland | B19: Kittiwake | C19: 6x17MW | D19: =$S$13*D13 -> 0.00069252876 | E19: =$S$13*E13 -> 0.002072672 | F19: =$S$13*F13 -> 0.0048713134 | G19: =$S$14*G13 -> 0.022990225 | H19: =$S$14*H13 -> 0.083129554 | I19: =$S$14*I13 -> 1.4659246 | J19: =$S$14*J13 -> 0.90002349 | K19: =$S$14*K13 -> 0.12969744 | L19: =$S$15*L13 -> 0.00076131357 | M19: =$S$15*M13 -> 0.0025923551 | N19: =$S$15*N13 -> 0.011072293 | O19: =$S$15*O13 -> 0
A22: 4. Split to breeding and non-breeding, calculate rate of mortality
A23: OWF | B23: species | C23: turbines | D23: Absolute totals | H23: For PVA - absolute, split by immature and adult | L23: Rate | N23: Rate- with 10% adult sab
D24: Breeding | E24: Autumn | F24: Spring | G24: Total | H24: Breeding season | J24: Non-breeding season | L24: Adult | M24: Immature | N24: Adult | O24: Immature
H25: Adult | I25: Immature | J25: Adult | K25: Immature
A26: Pentland | B26: Kittiwake | C26: 1x14MW & 5x17MW | D26: =SUM(G18:K18) -> 2.582702 | E26: =SUM(L18:O18) -> 0.014320262 | F26: =SUM(D18:F18) -> 0.007580561 | G26: =SUM(D18:O18) -> 2.6046028 | H26: =$S$5*D26 -> 2.4458188 | I26: =$V$5*D26 -> 0.13688321 | J26: =$S$9*(E26+F26) -> 0.013140494 | K26: =$V$9*(E26+F26) -> 0.008760329 | L26: =(H26+J26)/$R$9 -> 0.00022061361 | M26: =(I26+K26)/$U$9 -> 1.9600332e-05 | N26: =L26*0.9 -> 0.00019855225 | O26: =M26 -> 1.9600332e-05
A27: Pentland | B27: Kittiwake | C27: 6x17MW | D27: =SUM(G19:K19) -> 2.6017654 | E27: =SUM(L19:O19) -> 0.014425961 | F27: =SUM(D19:F19) -> 0.0076365142 | G27: =SUM(D19:O19) -> 2.6238278 | H27: =$S$5*D27 -> 2.4638718 | I27: =$V$5*D27 -> 0.13789356 | J27: =$S$9*(E27+F27) -> 0.013237485 | K27: =$V$9*(E27+F27) -> 0.0088249902 | L27: =(H27+J27)/$R$9 -> 0.00022224199 | M27: =(I27+K27)/$U$9 -> 1.9745005e-05 | N27: =L27*0.9 -> 0.0002000178 | O27: =M27 -> 1.9745005e-05
A32: Kittiwake Moray Firth
A34: 1. CRM outputs
A35: OWF | B35: species | C35: turbines | D35: Jan | E35: Feb | F35: Mar | G35: Apr | H35: May | I35: Jun | J35: Jul | K35: Aug | L35: Sep | M35: Oct | N35: Nov | O35: Dec
A36: BeatriceAsBuilt | B36: Kittiwake | C36: 84 | D36: 0.3249598 | E36: 0.7726538 | F36: 1.9854704 | G36: 2.2412901 | H36: 2.1467751 | I36: 2.4994864 | J36: 1.9714502 | K36: 0 | L36: 0.228758 | M36: 0.5727662 | N36: 0.3254705 | O36: 0.1592012
A37: MorayEastAsBuilt | B37: Kittiwake | C37: 60 | D37: 0.4112335 | E37: 0.8828984 | F37: 5.4276195 | G37: 15.218497 | H37: 50.042181 | I37: 4.0320664 | J37: 1.5659763 | K37: 1.2391278 | L37: 0.3178044 | M37: 0.561769 | N37: 0 | O37: 0.1153155
A38: MorayWestAsBuilt | B38: Kittiwake | C38: 100 | D38: 0.3410724 | E38: 4.1482032 | F38: 26.12046 | G38: 45.296529 | H38: 9.1271376 | I38: 5.9411119 | J38: 4.3693322 | K38: 8.6923629 | L38: 4.631016 | M38: 0.7039906 | N38: 1.1043597 | O38: 2.2991868
A41: 2. Apply weightings
A42: OWF | B42: species | C42: turbines | D42: Jan | E42: Feb | F42: Mar | G42: Apr | H42: May | I42: Jun | J42: Jul | K42: Aug | L42: Sep | M42: Oct | N42: Nov | O42: Dec
A43: =A36 -> BeatriceAsBuilt | B43: =B36 -> Kittiwake | C43: =C36 -> 84 | D43: =D36*$T$13 -> 0.0090988744 | E43: =E36*$T$13 -> 0.021634306 | F43: =F36*$T$13 -> 0.055593171 | G43: =G36*$T$14 -> 0.058273543 | H43: =H36*$T$14 -> 0.055816153 | I43: =I36*$T$14 -> 0.064986646 | J43: =J36*$T$14 -> 0.051257705 | K43: =K36*$T$14 -> 0 | L43: =L36*$T$15 -> 0.005261434 | M43: =M36*$T$15 -> 0.013173623 | N43: =N36*$T$15 -> 0.0074858215 | O43: =O36*$T$15 -> 0.0036616276
A44: =A37 -> MorayEastAsBuilt | B44: =B37 -> Kittiwake | C44: =C37 -> 60 | D44: =D37*$U$13 -> 0.011514538 | E44: =E37*$U$13 -> 0.024721155 | F44: =F37*$U$13 -> 0.15197335 | G44: =G37*$U$14 -> 0.35002542 | H44: =H37*$U$14 -> 1.1509702 | I44: =I37*$U$14 -> 0.092737527 | J44: =J37*$U$14 -> 0.036017455 | K44: =K37*$U$14 -> 0.028499939 | L44: =L37*$U$15 -> 0.0073095012 | M44: =M37*$U$15 -> 0.012920687 | N44: =N37*$U$15 -> 0 | O44: =O37*$U$15 -> 0.0026522565
A45: =A38 -> MorayWestAsBuilt | B45: =B38 -> Kittiwake | C45: =C38 -> 100 | D45: =D38*$V$13 -> 0.0095500272 | E45: =E38*$V$13 -> 0.11614969 | F45: =F38*$V$13 -> 0.73137289 | G45: =G38*$V$14 -> 0.67944794 | H45: =H38*$V$14 -> 0.13690706 | I45: =I38*$V$14 -> 0.089116679 | J45: =J38*$V$14 -> 0.065539983 | K45: =K38*$V$14 -> 0.13038544 | L45: =L38*$V$15 -> 0.10651337 | M45: =M38*$V$15 -> 0.016191784 | N45: =N38*$V$15 -> 0.025400273 | O45: =O38*$V$15 -> 0.052881296
A48: 3. Split to breeding and non-breeding, calculate rate of mortality
A49: OWF | B49: species | C49: turbines | D49: Absolute totals | H49: For PVA - absolute, split by immature and adult | L49: Rate | N49: Rate- with 10% adult sab
D50: Breeding | E50: Autumn | F50: Spring | G50: Total | H50: Breeding season | J50: Non-breeding season | L50: Adult | M50: Immature | N50: Adult | O50: Immature
H51: Adult | I51: Immature | J51: Adult | K51: Immature
A52: =A36 -> BeatriceAsBuilt | B52: =B36 -> Kittiwake | C52: =C36 -> 84 | D52: =SUM(G43:K43) -> 0.23033405 | E52: =SUM(L43:O43) -> 0.029582506 | F52: =SUM(D43:F43) -> 0.086326352 | G52: =SUM(D43:O43) -> 0.3462429 | H52: =$S$5*D52 -> 0.21812634 | I52: =$V$5*D52 -> 0.012207704 | J52: =$S$9*(E52+F52) -> 0.069545315 | K52: =$V$9*(E52+F52) -> 0.046363543 | L52: =(H52+J52)/$R$9 -> 2.5809408e-05 | M52: =(I52+K52)/$U$9 -> 7.8823678e-06 | N52: =L52*0.9 -> 2.3228467e-05 | O52: =M52 -> 7.8823678e-06
A53: =A37 -> MorayEastAsBuilt | B53: =B37 -> Kittiwake | C53: =C37 -> 60 | D53: =SUM(G44:K44) -> 1.6582505 | E53: =SUM(L44:O44) -> 0.022882445 | F53: =SUM(D44:F44) -> 0.18820904 | G53: =SUM(D44:O44) -> 1.869342 | H53: =$S$5*D53 -> 1.5703632 | I53: =$V$5*D53 -> 0.087887277 | J53: =$S$9*(E53+F53) -> 0.12665489 | K53: =$V$9*(E53+F53) -> 0.084436594 | L53: =(H53+J53)/$R$9 -> 0.00015225356 | M53: =(I53+K53)/$U$9 -> 2.3190903e-05 | N53: =L53*0.9 -> 0.0001370282 | O53: =M53 -> 2.3190903e-05
A54: =A38 -> MorayWestAsBuilt | B54: =B38 -> Kittiwake | C54: =C38 -> 100 | D54: =SUM(G45:K45) -> 1.1013971 | E54: =SUM(L45:O45) -> 0.20098672 | F54: =SUM(D45:F45) -> 0.85707261 | G54: =SUM(D45:O45) -> 2.1594564 | H54: =$S$5*D54 -> 1.0430231 | I54: =$V$5*D54 -> 0.058374047 | J54: =$S$9*(E54+F54) -> 0.6348356 | K54: =$V$9*(E54+F54) -> 0.42322373 | L54: =(H54+J54)/$R$9 -> 0.0001505346 | M54: =(I54+K54)/$U$9 -> 6.481219e-05 | N54: =L54*0.9 -> 0.00013548114 | O54: =M54 -> 6.481219e-05
K55: Total | L55: =SUM(L52:L54) -> 0.00032859756 | M55: =SUM(M52:M54) -> 9.5885461e-05 | N55: =SUM(N52:N54) -> 0.00029573781 | O55: =SUM(O52:O54) -> 9.5885461e-05
A61: The following Berwick Bank CRM and Disp. Estimates (in grey) for NCC non-breeding season were obtained from email correspondance
B63: Age | C63: Avoidance | D63: CRM | E63: CRM & Disp. | F63: pop @ 2016 | G63: CRM rate | H63: CRM & Disp. rate
A64: Berwick Bank | B64: Adult | C64: 0.989 | D64: 6.32 | E64: 10.2 | F64: - | G64: - | H64: -
A65: Berwick Bank | B65: Immatures | C65: 0.989 | D65: 3.16 | E65: 5.09 | F65: - | G65: - | H65: -
A66: Berwick Bank | B66: Adult | C66: 0.992 | D66: =D64/(1-0.989)*(1-0.992) -> 4.5963636 | E66: =E64-D64+D66 -> 8.4763636 | F66: 11146 | G66: =D66/F66 -> 0.00041237786 | H66: =E66/F66 -> 0.0007604848
A67: Berwick Bank | B67: Immatures | C67: 0.992 | D67: =D65/(1-0.989)*(1-0.992) -> 2.2981818 | E67: =E65-D65+D67 -> 4.2281818 | F67: 7431 | G67: =D67/F67 -> 0.00030926952 | H67: =E67/F67 -> 0.0005689923

Sheet CRM -North Sea Compilation
B2: Offshore wind farm project | C2: Planning stage / date consented | D2: Autumn migration | H2: Spring migration
D3: Hornsea 4 | E3: ICOL | F3: ICOL | G3: ICOL season-adjusted | H3: Hornsea 4 | I3: ICOL | J3: ICOL | K3: ICOL season-adjusted
D4: EA 1 & 2 | E4: consented | F4: built | H4: EA 1 & 2 | I4: consented | J4: built
B5: Blyth Demonstration (Phase 1) | C5: built | D5: 2.3 | E5: 2 | F5: 2.3 | G5: 1.8 | H5: 1.4 | I5: 1.8 | J5: 1.8 | K5: 1.5
B6: Dogger Bank A & B (formerly Creyke Beck) | C6: 42052 | D6: 135 | E6: 137 | F6: 136.7 | G6: 109.3 | H6: 295.4 | I6: 359.7 | J6: 359.7 | K6: 314.8
B7: Dogger Bank C (formerly Teesside A) | C7: 42221 | D7: 90.7 | E7: 90.7 | F7: 90.7 | G7: 90.7 | H7: 216.9 | I7: 216.9 | J7: 216.9 | K7: 216.9
B8: Dudgeon | C8: built | D8: - | E8: - | F8: - | G8: - | H8: - | I8: - | J8: - | K8: -
B9: Dudgeon Extension | C9: application | D9: 8.6 | E9: 8.6 | F9: 8.6 | G9: 8.6 | H9: 2.2 | I9: 2.2 | J9: 2.2 | K9: 2.2
B10: East Anglia ONE | C10: built | D10: 160.4 | E10: 137 | F10: 61.5 | G10: 49.2 | H10: 46.8 | I10: 71 | J10: 18 | K10: 15.8
B11: East Anglia ONE North | C11: 44651 | D11: 8.1 | E11: 8.1 | F11: 8.1 | G11: 8.1 | H11: 3.5 | I11: 3.5 | J11: 3.5 | K11: 3.5
B12: East Anglia TWO | C12: 44651 | D12: 5.4 | E12: 5.4 | F12: 5.4 | G12: 5.4 | H12: 7.4 | I12: 7.4 | J12: 7.4 | K12: 7.4
B13: East Anglia THREE | C13: 42954 | D13: 56.5 | E13: 69 | F13: 69 | G13: 55.2 | H13: 30.8 | I13: 49 | J13: 37.6 | K13: 32.9
B14: EOWDC (Aberdeen Bay) | C14: built | D14: 5.8 | E14: 6 | F14: 4.5 | G14: 3.6 | H14: 1.1 | I14: 1.1 | J14: 0.8 | K14: 0.7
B15: Forthwind Demo | C15: 44999 | D15: 0 | E15: 0 | F15: 0 | G15: 0 | H15: 0 | I15: 0 | J15: 0 | K15: 0
B16: Galloper | C16: built | D16: 27.8 | E16: 28 | F16: 11.7 | G16: 9.3 | H16: 31.8 | I16: 31.8 | J16: 13.3 | K16: 11.7
B17: Greater Gabbard | C17: built | D17: 15 | E17: 15 | F17: 16 | G17: 12.8 | H17: 11.4 | I17: 11.4 | J17: 12.1 | K17: 10.6
B18: Gunfleet Sands (1 and 2) | C18: built | D18: - | E18: - | F18: - | G18: - | H18: - | I18: - | J18: - | K18: -
B19: Hornsea One | C19: built | D19: 55.9 | E19: 54 | F19: 32.2 | G19: 25.8 | H19: 20.9 | I19: 24.7 | J19: 14.8 | K19: 12.9
B20: Hornsea Two | C20: built | D20: 9 | E20: 8 | F20: 8.4 | G20: 6.7 | H20: 3 | I20: 19 | J20: 5.7 | K20: 5
B21: Hornsea Three | C21: 44196 | D21: 6 | E21: 6 | F21: 6 | G21: 6 | H21: 3 | I21: 3 | J21: 3 | K21: 3
B22: Hornsea Four | C22: 45119 | D22: 38.4 | E22: 38.4 | F22: 38.4 | G22: 38.4 | H22: 25.1 | I22: 25.1 | J22: 25.1 | K22: 25.1
B23: Humber Gateway | C23: built | D23: 3.2 | E23: 3.2 | F23: 1.3 | G23: 1 | H23: 1.9 | I23: 2.6 | J23: 1 | K23: 0.9
B24: Hywind Scotland | C24: built | D24: 0.9 | E24: 0.9 | F24: 0.9 | G24: 0.9 | H24: 0.9 | I24: 0.9 | J24: 0.9 | K24: 0.9
B25: Inch Cape | C25: 43633 | D25: 224.8 | E25: 26 | F25: 26 | G25: 26 | H25: 63.5 | I25: 6 | J25: 6 | K25: 6
B26: Kentish Flats 1 | C26: built | D26: 0.9 | E26: 0.9 | F26: 0.9 | G26: 0.9 | H26: 0.7 | I26: 0.7 | J26: 0.7 | K26: 0.7
B27: Kentish Flats 2 | C27: built | D27: 0 | E27: 0 | F27: 0 | G27: 0 | H27: 2.7 | I27: 0 | J27: 0 | K27: 0
B28: Kincardine | C28: built | D28: 9 | E28: 9 | F28: 9 | G28: 9 | H28: 1 | I28: 1 | J28: 1 | K28: 1
B29: Lincs, Lynn & Inner Dowsing | C29: built | D29: 0.7 | E29: 1 | F29: 1.2 | G29: 1 | H29: 1.2 | I29: 0.9 | J29: 0.9 | K29: 0.8
B30: London Array | C30: built | D30: 2.3 | E30: 2 | F30: 0.9 | G30: 0.7 | H30: 1.8 | I30: 1.8 | J30: 0.7 | K30: 0.6
B31: Methil Demo | C31: built | D31: 0 | E31: 0 | F31: 0 | G31: 0 | H31: 0 | I31: 0 | J31: 0 | K31: 0
B32: Neart na Gaoithe | C32: 43437 | D32: 56.1 | E32: 33 | F32: 33 | G32: 33 | H32: 4.4 | I32: 3 | J32: 3 | K32: 3
B33: Norfolk Boreas | C33: 44540 | D33: 32.2 | E33: 32.2 | F33: 32.2 | G33: 32.2 | H33: 11.9 | I33: 11.9 | J33: 11.9 | K33: 11.9
B34: Norfolk Vanguard | C34: 44603 | D34: 16.4 | E34: 16.4 | F34: 16.4 | G34: 16.4 | H34: 19.3 | I34: 19.3 | J34: 19.3 | K34: 19.3
B35: Race Bank | C35: built | D35: 23.9 | E35: 24 | F35: 14.2 | G35: 11.3 | H35: 5.6 | I35: 5.6 | J35: 3.3 | K35: 2.9
B36: Rampion | C36: built | D36: 0 | E36: 37 | F36: 25.6 | G36: 20.5 | H36: 0 | I36: 29.7 | J36: 20.3 | K36: 17.8
B37: Scroby Sands | C37: built | D37: - | E37: - | F37: - | G37: - | H37: - | I37: - | J37: - | K37: -
B38: Seagreen | C38: built | D38: 313.1 | E38: 180 | F38: 180 | G38: 180 | H38: 247.6 | I38: 99 | J38: 99 | K38: 99
B39: Sheringham Shoal | C39: built | D39: - | E39: - | F39: - | G39: - | H39: - | I39: - | J39: - | K39: -
B40: Sheringham Shoal Extension | C40: application | D40: 1.9 | E40: 1.9 | F40: 1.9 | G40: 1.9 | H40: 0 | I40: 0 | J40: 0 | K40: 0
B41: Teesside | C41: built | D41: 24 | E41: 25 | F41: 17 | G41: 13.6 | H41: 2.5 | I41: 15 | J41: 10.6 | K41: 9.3
B42: Thanet | C42: built | D42: 0.5 | E42: 0 | F42: 0.2 | G42: 0.1 | H42: 0.4 | I42: 0.4 | J42: 0.2 | K42: 0.2
B43: Triton Knoll | C43: built | D43: 139 | E43: 139 | F43: 47.2 | G43: 37.7 | H43: 45.4 | I43: 50.2 | J43: 17.1 | K43: 14.9
B44: Westermost Rough | C44: built | D44: 0.2 | E44: 0 | F44: 0.2 | G44: 0.1 | H44: 0.1 | I44: 0.2 | J44: 0.2 | K44: 0.2
B45: English totals at an 0.989 avoidance rate | D45: =SUM(D5:D13,D16:D23,D26:D27,D29:D30,D33:D37,D39:D44) -> 864.3 | E45: =SUM(E5:E13,E16:E23,E26:E27,E29:E30,E33:E37,E39:E44) -> 889.8 | F45: =SUM(F5:F13,F16:F23,F26:F27,F29:F30,F33:F37,F39:F44) -> 654.2 | G45: =SUM(G5:G13,G16:G23,G26:G27,G29:G30,G33:G37,G39:G44) -> 564.7 | H45: =SUM(H5:H13,H16:H23,H26:H27,H29:H30,H33:H37,H39:H44) -> 793.1 | I45: =SUM(I5:I13,I16:I23,I26:I27,I29:I30,I33:I37,I39:I44) -> 964.8 | J45: =SUM(J5:J13,J16:J23,J26:J27,J29:J30,J33:J37,J39:J44) -> 807.3 | K45: =SUM(K5:K13,K16:K23,K26:K27,K29:K30,K33:K37,K39:K44) -> 742.8
B46: English totals at an 0.992 avoidance rate | D46: =(D45/(1-0.989))*(1-0.992) -> 628.58182 | E46: =(E45/(1-0.989))*(1-0.992) -> 647.12727 | F46: =(F45/(1-0.989))*(1-0.992) -> 475.78182 | G46: =(G45/(1-0.989))*(1-0.992) -> 410.69091 | H46: =(H45/(1-0.989))*(1-0.992) -> 576.8 | I46: =(I45/(1-0.989))*(1-0.992) -> 701.67273 | J46: =(J45/(1-0.989))*(1-0.992) -> 587.12727 | K46: =(K45/(1-0.989))*(1-0.992) -> 540.21818
B47: English adults at 0.992 avoidance rate (10% sabbatical applied) | D47: =D46*0.6*0.9 -> 339.43418 | E47: =E46*0.6*0.9 -> 349.44873 | F47: =F46*0.6*0.9 -> 256.92218 | G47: =G46*0.6*0.9 -> 221.77309 | H47: =H46*0.6*0.9 -> 311.472 | I47: =I46*0.6*0.9 -> 378.90327 | J47: =J46*0.6*0.9 -> 317.04873 | K47: =K46*0.6*0.9 -> 291.71782
B48: English immatures at 0.992 avoidance rate | D48: =D46*0.4 -> 251.43273 | E48: =E46*0.4 -> 258.85091 | F48: =F46*0.4 -> 190.31273 | G48: =G46*0.4 -> 164.27636 | H48: =H46*0.4 -> 230.72 | I48: =I46*0.4 -> 280.66909 | J48: =J46*0.4 -> 234.85091 | K48: =K46*0.4 -> 216.08727
B49: Scottish totals at an 0.989 avoidance rate | D49: =SUM(D14,D15,D24,D25,D28,D31,D32,D38) -> 609.7 | E49: =SUM(E14,E15,E24,E25,E28,E31,E32,E38) -> 254.9 | F49: =SUM(F14,F15,F24,F25,F28,F31,F32,F38) -> 253.4 | G49: =SUM(G14,G15,G24,G25,G28,G31,G32,G38) -> 252.5 | H49: =SUM(H14,H15,H24,H25,H28,H31,H32,H38) -> 318.5 | I49: =SUM(I14,I15,I24,I25,I28,I31,I32,I38) -> 111 | J49: =SUM(J14,J15,J24,J25,J28,J31,J32,J38) -> 110.7 | K49: =SUM(K14,K15,K24,K25,K28,K31,K32,K38) -> 110.6
B50: Scottish totals at an 0.992 avoidance rate | D50: =(D49/(1-0.989))*(1-0.992) -> 443.41818 | E50: =(E49/(1-0.989))*(1-0.992) -> 185.38182 | F50: =(F49/(1-0.989))*(1-0.992) -> 184.29091 | G50: =(G49/(1-0.989))*(1-0.992) -> 183.63636 | H50: =(H49/(1-0.989))*(1-0.992) -> 231.63636 | I50: =(I49/(1-0.989))*(1-0.992) -> 80.727273 | J50: =(J49/(1-0.989))*(1-0.992) -> 80.509091 | K50: =(K49/(1-0.989))*(1-0.992) -> 80.436364
B51: Scottish adults at 0.992 avoidance rate | D51: =D50*0.6 -> 266.05091 | E51: =E50*0.6 -> 111.22909 | F51: =F50*0.6 -> 110.57455 | G51: =G50*0.6 -> 110.18182 | H51: =H50*0.6 -> 138.98182 | I51: =I50*0.6 -> 48.436364 | J51: =J50*0.6 -> 48.305455 | K51: =K50*0.6 -> 48.261818
B52: Scottish immatures at 0.992 avoidance rate | D52: =D50*0.4 -> 177.36727 | E52: =E50*0.4 -> 74.152727 | F52: =F50*0.4 -> 73.716364 | G52: =G50*0.4 -> 73.454545 | H52: =H50*0.4 -> 92.654545 | I52: =I50*0.4 -> 32.290909 | J52: =J50*0.4 -> 32.203636 | K52: =K50*0.4 -> 32.174545
B53: Total adults | D53: =SUM(D47,D51) -> 605.48509 | E53: =SUM(E47,E51) -> 460.67782 | F53: =SUM(F47,F51) -> 367.49673 | G53: =SUM(G47,G51) -> 331.95491 | H53: =SUM(H47,H51) -> 450.45382 | I53: =SUM(I47,I51) -> 427.33964 | J53: =SUM(J47,J51) -> 365.35418 | K53: =SUM(K47,K51) -> 339.97964
B54: Total immatures | D54: =SUM(D48,D52) -> 428.8 | E54: =SUM(E48,E52) -> 333.00364 | F54: =SUM(F48,F52) -> 264.02909 | G54: =SUM(G48,G52) -> 237.73091 | H54: =SUM(H48,H52) -> 323.37455 | I54: =SUM(I48,I52) -> 312.96 | J54: =SUM(J48,J52) -> 267.05455 | K54: =SUM(K48,K52) -> 248.26182
B55: Total adults as apportioned to NCC (autumn @ 0.023, spring @ 0.028) | D55: =D53*0.023 -> 13.926157 | E55: =E53*0.023 -> 10.59559 | F55: =F53*0.023 -> 8.4524247 | G55: =G53*0.023 -> 7.6349629 | H55: =H53*0.028 -> 12.612707 | I55: =I53*0.028 -> 11.96551 | J55: =J53*0.028 -> 10.229917 | K55: =K53*0.028 -> 9.5194298
B56: Total immatures as apportioned to NCC (autumn @ 0.023, spring @ 0.028) | D56: =D54*0.023 -> 9.8624 | E56: =E54*0.023 -> 7.6590836 | F56: =F54*0.023 -> 6.0726691 | G56: =G54*0.023 -> 5.4678109 | H56: =H54*0.028 -> 9.0544873 | I56: =I54*0.028 -> 8.76288 | J56: =J54*0.028 -> 7.4775273 | K56: =K54*0.028 -> 6.9513309
B57: Total adults rate | D57: =D55/11146 -> 0.0012494309 | E57: =E55/11146 -> 0.00095061814 | F57: =F55/11146 -> 0.00075833705 | G57: =G55/11146 -> 0.00068499578 | H57: =H55/11146 -> 0.0011315904 | I57: =I55/11146 -> 0.001073525 | J57: =J55/11146 -> 0.00091781061 | K57: =K55/11146 -> 0.00085406691
B58: Total immature rate | D58: =D56/7431 -> 0.0013271969 | E58: =E56/7431 -> 0.0010306935 | F58: =F56/7431 -> 0.00081720752 | G58: =G56/7431 -> 0.00073581091 | H58: =H56/7431 -> 0.0012184749 | I58: =I56/7431 -> 0.0011792329 | J58: =J56/7431 -> 0.0010062612 | K58: =K56/7431 -> 0.00093545026
